BEGIN:VCALENDAR
VERSION:2.0
PRODID:-//uplift studio - ECPv6.15.20//NONSGML v1.0//EN
CALSCALE:GREGORIAN
METHOD:PUBLISH
X-ORIGINAL-URL:https://upliftstudio.ca
X-WR-CALDESC:Events for uplift studio
REFRESH-INTERVAL;VALUE=DURATION:PT1H
X-Robots-Tag:noindex
X-PUBLISHED-TTL:PT1H
BEGIN:VTIMEZONE
TZID:UTC
BEGIN:STANDARD
TZOFFSETFROM:+0000
TZOFFSETTO:+0000
TZNAME:UTC
DTSTART:20170101T000000
END:STANDARD
END:VTIMEZONE
BEGIN:VEVENT
DTSTART;TZID=UTC:20180530T153000
DTEND;TZID=UTC:20180530T164500
DTSTAMP:20260422T145413
CREATED:20180323T171141Z
LAST-MODIFIED:20180323T171357Z
UID:718-1527694200-1527698700@upliftstudio.ca
SUMMARY:Awareness Through Movement
DESCRIPTION:$20/class or a 6 class discount for $100 \nYou must register by email for classes ahead of time
URL:https://upliftstudio.ca/event/awareness-through-movement-36/
LOCATION:B.C.
CATEGORIES:Awareness Through Movement
END:VEVENT
BEGIN:VEVENT
DTSTART;TZID=UTC:20180529T091500
DTEND;TZID=UTC:20180529T103000
DTSTAMP:20260422T145413
CREATED:20180323T170354Z
LAST-MODIFIED:20180323T170556Z
UID:692-1527585300-1527589800@upliftstudio.ca
SUMMARY:Awareness Through Movement
DESCRIPTION:$20/class or a 6 class discount for $100 \nYou must register by email for classes ahead of time
URL:https://upliftstudio.ca/event/awareness-through-movement-26/
LOCATION:B.C.
CATEGORIES:Awareness Through Movement
END:VEVENT
BEGIN:VEVENT
DTSTART;TZID=UTC:20180524T171500
DTEND;TZID=UTC:20180524T183000
DTSTAMP:20260422T145413
CREATED:20180323T172403Z
LAST-MODIFIED:20180323T172538Z
UID:746-1527182100-1527186600@upliftstudio.ca
SUMMARY:Awareness Through Movement
DESCRIPTION:$20/class or a 6 class discount for $100 \nYou must register by email for classes ahead of time
URL:https://upliftstudio.ca/event/awareness-through-movement-44/
LOCATION:B.C.
CATEGORIES:Awareness Through Movement
END:VEVENT
BEGIN:VEVENT
DTSTART;TZID=UTC:20180523T190000
DTEND;TZID=UTC:20180523T201500
DTSTAMP:20260422T145413
CREATED:20180323T171817Z
LAST-MODIFIED:20180323T171929Z
UID:738-1527102000-1527106500@upliftstudio.ca
SUMMARY:Awareness Through Movement
DESCRIPTION:$20/class or a 6 class discount for $100 \nYou must register by email for classes ahead of time
URL:https://upliftstudio.ca/event/awareness-through-movement-43/
LOCATION:B.C.
CATEGORIES:Awareness Through Movement
END:VEVENT
BEGIN:VEVENT
DTSTART;TZID=UTC:20180523T153000
DTEND;TZID=UTC:20180523T164500
DTSTAMP:20260422T145413
CREATED:20180323T171150Z
LAST-MODIFIED:20180323T171252Z
UID:720-1527089400-1527093900@upliftstudio.ca
SUMMARY:Awareness Through Movement
DESCRIPTION:$20/class or a 6 class discount for $100 \nYou must register by email for classes ahead of time
URL:https://upliftstudio.ca/event/awareness-through-movement-37/
LOCATION:B.C.
CATEGORIES:Awareness Through Movement
END:VEVENT
BEGIN:VEVENT
DTSTART;TZID=UTC:20180522T091500
DTEND;TZID=UTC:20180522T103000
DTSTAMP:20260422T145413
CREATED:20180323T170432Z
LAST-MODIFIED:20180323T170523Z
UID:702-1526980500-1526985000@upliftstudio.ca
SUMMARY:Awareness Through Movement
DESCRIPTION:$20/class or a 6 class discount for $100 \nYou must register by email for classes ahead of time
URL:https://upliftstudio.ca/event/awareness-through-movement-31/
LOCATION:B.C.
CATEGORIES:Awareness Through Movement
END:VEVENT
BEGIN:VEVENT
DTSTART;TZID=UTC:20180519T090000
DTEND;TZID=UTC:20180519T130000
DTSTAMP:20260422T145413
CREATED:20180323T160947Z
LAST-MODIFIED:20180323T160947Z
UID:613-1526720400-1526734800@upliftstudio.ca
SUMMARY:Finding Your Hip Joints
DESCRIPTION:This workshop is not only for those of you who experience pain and stiffness in your hip joints but also for those who would like to access more clearly the power of their pelvis in movement. In this workshop you will: \n\nlocate\, with precision\, the hip joints – improving your self image template for movement\nconnect your hip joints to the use of your feet and torso- creating support for the hip joint.\nfind greater range and ease of movement in the hips – and applying this to movements that you want to make better.\n\nThis is a half day workshop consisting of 3 separate movement lessons with small breaks in between.
URL:https://upliftstudio.ca/event/finding-your-hip-joints/
LOCATION:B.C.
CATEGORIES:Workshop
ORGANIZER;CN="Janet Willson":MAILTO:jlw6376@telus.net
END:VEVENT
BEGIN:VEVENT
DTSTART;TZID=UTC:20180510T171500
DTEND;TZID=UTC:20180510T183000
DTSTAMP:20260422T145413
CREATED:20180323T165602Z
LAST-MODIFIED:20180323T170141Z
UID:679-1525972500-1525977000@upliftstudio.ca
SUMMARY:Awareness Through Movement
DESCRIPTION:$20/class or a 6 class discount for $100 \nYou must register by email for classes ahead of time
URL:https://upliftstudio.ca/event/awareness-through-movement-23/
LOCATION:B.C.
CATEGORIES:Awareness Through Movement
END:VEVENT
BEGIN:VEVENT
DTSTART;TZID=UTC:20180509T190000
DTEND;TZID=UTC:20180509T201500
DTSTAMP:20260422T145413
CREATED:20180323T164556Z
LAST-MODIFIED:20180323T165447Z
UID:654-1525892400-1525896900@upliftstudio.ca
SUMMARY:Awareness Through Movement
DESCRIPTION:$20/class or a 6 class discount for $100 \nYou must register by email for classes ahead of time
URL:https://upliftstudio.ca/event/awareness-through-movement-14/
LOCATION:B.C.
CATEGORIES:Awareness Through Movement
END:VEVENT
BEGIN:VEVENT
DTSTART;TZID=UTC:20180509T153000
DTEND;TZID=UTC:20180509T164500
DTSTAMP:20260422T145413
CREATED:20180323T163114Z
LAST-MODIFIED:20180323T164105Z
UID:647-1525879800-1525884300@upliftstudio.ca
SUMMARY:Awareness Through Movement
DESCRIPTION:$20/class or a 6 class discount for $100 \nYou must register by email for classes ahead of time
URL:https://upliftstudio.ca/event/awareness-through-movement-13/
LOCATION:B.C.
END:VEVENT
BEGIN:VEVENT
DTSTART;TZID=UTC:20180508T091500
DTEND;TZID=UTC:20180508T103000
DTSTAMP:20260422T145413
CREATED:20180323T162135Z
LAST-MODIFIED:20180323T162319Z
UID:629-1525770900-1525775400@upliftstudio.ca
SUMMARY:Awareness Through Movement
DESCRIPTION:$20/class or a 6 class discount for $100 \nYou must register by email for classes ahead of time
URL:https://upliftstudio.ca/event/awareness-through-movement-7/
LOCATION:B.C.
CATEGORIES:Awareness Through Movement
END:VEVENT
BEGIN:VEVENT
DTSTART;TZID=UTC:20180503T171500
DTEND;TZID=UTC:20180503T183000
DTSTAMP:20260422T145413
CREATED:20180323T165611Z
LAST-MODIFIED:20180323T170111Z
UID:681-1525367700-1525372200@upliftstudio.ca
SUMMARY:Awareness Through Movement
DESCRIPTION:$20/class or a 6 class discount for $100 \nYou must register by email for classes ahead of time
URL:https://upliftstudio.ca/event/awareness-through-movement-24/
LOCATION:B.C.
CATEGORIES:Awareness Through Movement
END:VEVENT
BEGIN:VEVENT
DTSTART;TZID=UTC:20180502T190000
DTEND;TZID=UTC:20180502T201500
DTSTAMP:20260422T145413
CREATED:20180323T164618Z
LAST-MODIFIED:20180323T165408Z
UID:660-1525287600-1525292100@upliftstudio.ca
SUMMARY:Awareness Through Movement
DESCRIPTION:$20/class or a 6 class discount for $100 \nYou must register by email for classes ahead of time
URL:https://upliftstudio.ca/event/awareness-through-movement-17/
LOCATION:B.C.
CATEGORIES:Awareness Through Movement
END:VEVENT
BEGIN:VEVENT
DTSTART;TZID=UTC:20180502T153000
DTEND;TZID=UTC:20180502T164500
DTSTAMP:20260422T145413
CREATED:20180323T163105Z
LAST-MODIFIED:20180323T164029Z
UID:645-1525275000-1525279500@upliftstudio.ca
SUMMARY:Awareness Through Movement
DESCRIPTION:$20/class or a 6 class discount for $100 \nYou must register by email for classes ahead of time
URL:https://upliftstudio.ca/event/awareness-through-movement-12/
LOCATION:B.C.
CATEGORIES:Awareness Through Movement
END:VEVENT
BEGIN:VEVENT
DTSTART;TZID=UTC:20180501T091500
DTEND;TZID=UTC:20180501T103000
DTSTAMP:20260422T145413
CREATED:20180323T162058Z
LAST-MODIFIED:20180323T162354Z
UID:621-1525166100-1525170600@upliftstudio.ca
SUMMARY:Awareness Through Movement
DESCRIPTION:$20/class or a 6 class discount for $100 \nYou must register by email for classes ahead of time
URL:https://upliftstudio.ca/event/awareness-through-movement-3/
LOCATION:B.C.
CATEGORIES:Awareness Through Movement
END:VEVENT
BEGIN:VEVENT
DTSTART;TZID=UTC:20180426T171500
DTEND;TZID=UTC:20180426T183000
DTSTAMP:20260422T145413
CREATED:20180323T165618Z
LAST-MODIFIED:20180323T170032Z
UID:683-1524762900-1524767400@upliftstudio.ca
SUMMARY:Awareness Through Movement
DESCRIPTION:$20/class or a 6 class discount for $100 \nYou must register by email for classes ahead of time
URL:https://upliftstudio.ca/event/awareness-through-movement-25/
LOCATION:B.C.
CATEGORIES:Awareness Through Movement
END:VEVENT
BEGIN:VEVENT
DTSTART;TZID=UTC:20180425T190000
DTEND;TZID=UTC:20180425T201500
DTSTAMP:20260422T145413
CREATED:20180323T164605Z
LAST-MODIFIED:20180323T165229Z
UID:656-1524682800-1524687300@upliftstudio.ca
SUMMARY:Awareness Through Movement
DESCRIPTION:$20/class or a 6 class discount for $100 \nYou must register by email for classes ahead of time
URL:https://upliftstudio.ca/event/awareness-through-movement-15/
LOCATION:B.C.
CATEGORIES:Awareness Through Movement
END:VEVENT
BEGIN:VEVENT
DTSTART;TZID=UTC:20180425T153000
DTEND;TZID=UTC:20180425T164500
DTSTAMP:20260422T145413
CREATED:20180323T163057Z
LAST-MODIFIED:20180323T163928Z
UID:643-1524670200-1524674700@upliftstudio.ca
SUMMARY:Awareness Through Movement
DESCRIPTION:$20/class or a 6 class discount for $100 \nYou must register by email for classes ahead of time
URL:https://upliftstudio.ca/event/awareness-through-movement-11/
LOCATION:B.C.
CATEGORIES:Awareness Through Movement
END:VEVENT
BEGIN:VEVENT
DTSTART;TZID=UTC:20180424T091500
DTEND;TZID=UTC:20180424T103000
DTSTAMP:20260422T145413
CREATED:20180323T162125Z
LAST-MODIFIED:20180323T162454Z
UID:627-1524561300-1524565800@upliftstudio.ca
SUMMARY:Awareness Through Movement
DESCRIPTION:$20/class or a 6 class discount for $100 \nYou must register by email for classes ahead of time
URL:https://upliftstudio.ca/event/awareness-through-movement-6/
LOCATION:B.C.
CATEGORIES:Awareness Through Movement
END:VEVENT
BEGIN:VEVENT
DTSTART;TZID=UTC:20180419T171500
DTEND;TZID=UTC:20180419T183000
DTSTAMP:20260422T145413
CREATED:20180323T165554Z
LAST-MODIFIED:20180323T165934Z
UID:677-1524158100-1524162600@upliftstudio.ca
SUMMARY:Awareness Through Movement
DESCRIPTION:$20/class or a 6 class discount for $100 \nYou must register by email for classes ahead of time
URL:https://upliftstudio.ca/event/awareness-through-movement-22/
LOCATION:B.C.
CATEGORIES:Awareness Through Movement
END:VEVENT
BEGIN:VEVENT
DTSTART;TZID=UTC:20180418T190000
DTEND;TZID=UTC:20180418T201500
DTSTAMP:20260422T145413
CREATED:20180323T164612Z
LAST-MODIFIED:20180323T165150Z
UID:658-1524078000-1524082500@upliftstudio.ca
SUMMARY:Awareness Through Movement
DESCRIPTION:$20/class or a 6 class discount for $100 \nYou must register by email for classes ahead of time
URL:https://upliftstudio.ca/event/awareness-through-movement-16/
LOCATION:B.C.
CATEGORIES:Awareness Through Movement
END:VEVENT
BEGIN:VEVENT
DTSTART;TZID=UTC:20180418T153000
DTEND;TZID=UTC:20180418T164500
DTSTAMP:20260422T145413
CREATED:20180323T163049Z
LAST-MODIFIED:20180323T163753Z
UID:641-1524065400-1524069900@upliftstudio.ca
SUMMARY:Awareness Through Movement
DESCRIPTION:$20/class or a 6 class discount for $100 \nYou must register by email for classes ahead of time
URL:https://upliftstudio.ca/event/awareness-through-movement-10/
LOCATION:B.C.
CATEGORIES:Awareness Through Movement
END:VEVENT
BEGIN:VEVENT
DTSTART;TZID=UTC:20180417T091500
DTEND;TZID=UTC:20180417T103000
DTSTAMP:20260422T145413
CREATED:20180323T162106Z
LAST-MODIFIED:20180323T162738Z
UID:623-1523956500-1523961000@upliftstudio.ca
SUMMARY:Awareness Through Movement
DESCRIPTION:$20/class or a 6 class discount for $100 \nYou must register by email for classes ahead of time
URL:https://upliftstudio.ca/event/awareness-through-movement-4/
LOCATION:B.C.
CATEGORIES:Awareness Through Movement
END:VEVENT
BEGIN:VEVENT
DTSTART;TZID=UTC:20180412T171500
DTEND;TZID=UTC:20180412T183000
DTSTAMP:20260422T145413
CREATED:20180323T165545Z
LAST-MODIFIED:20180323T165821Z
UID:675-1523553300-1523557800@upliftstudio.ca
SUMMARY:Awareness Through Movement
DESCRIPTION:$20/class or a 6 class discount for $100 \nYou must register by email for classes ahead of time
URL:https://upliftstudio.ca/event/awareness-through-movement-21/
LOCATION:B.C.
CATEGORIES:Awareness Through Movement
END:VEVENT
BEGIN:VEVENT
DTSTART;TZID=UTC:20180411T190000
DTEND;TZID=UTC:20180411T201500
DTSTAMP:20260422T145413
CREATED:20180323T164626Z
LAST-MODIFIED:20180323T165025Z
UID:662-1523473200-1523477700@upliftstudio.ca
SUMMARY:Awareness Through Movement
DESCRIPTION:$20/class or a 6 class discount for $100 \nYou must register by email for classes ahead of time
URL:https://upliftstudio.ca/event/awareness-through-movement-18/
LOCATION:B.C.
CATEGORIES:Awareness Through Movement
END:VEVENT
BEGIN:VEVENT
DTSTART;TZID=UTC:20180410T091500
DTEND;TZID=UTC:20180410T103000
DTSTAMP:20260422T145413
CREATED:20180323T162823Z
LAST-MODIFIED:20180323T162823Z
UID:637-1523351700-1523356200@upliftstudio.ca
SUMMARY:Awareness Through Movement
DESCRIPTION:$20/class or a 6 class discount for $100 \nYou must register by email for classes ahead of time
URL:https://upliftstudio.ca/event/awareness-through-movement-8/
LOCATION:B.C.
CATEGORIES:Awareness Through Movement
END:VEVENT
BEGIN:VEVENT
DTSTART;TZID=UTC:20180408T090000
DTEND;TZID=UTC:20180408T160000
DTSTAMP:20260422T145413
CREATED:20180202T193955Z
LAST-MODIFIED:20180202T194503Z
UID:372-1523178000-1523203200@upliftstudio.ca
SUMMARY:I Can See Clearly Now\, Awareness Through Movement
DESCRIPTION:This full day workshop will focus on the many inter-relationships of the use of the eyes and how working with the whole body creates better sight. Email Janet for more information.
URL:https://upliftstudio.ca/event/i-can-see-clearly-now-awareness-through-movement/
LOCATION:B.C.
CATEGORIES:Awareness Through Movement
ORGANIZER;CN="Janet Willson":MAILTO:jlw6376@telus.net
END:VEVENT
BEGIN:VEVENT
DTSTART;TZID=UTC:20180405T171500
DTEND;TZID=UTC:20180405T183000
DTSTAMP:20260422T145413
CREATED:20180323T165537Z
LAST-MODIFIED:20180323T165737Z
UID:673-1522948500-1522953000@upliftstudio.ca
SUMMARY:Awareness Through Movement
DESCRIPTION:$20/class or a 6 class discount for $100 \nYou must register by email for classes ahead of time
URL:https://upliftstudio.ca/event/awareness-through-movement-20/
LOCATION:B.C.
CATEGORIES:Awareness Through Movement
END:VEVENT
BEGIN:VEVENT
DTSTART;TZID=UTC:20180404T190000
DTEND;TZID=UTC:20180404T201500
DTSTAMP:20260422T145413
CREATED:20180323T164635Z
LAST-MODIFIED:20180323T164940Z
UID:664-1522868400-1522872900@upliftstudio.ca
SUMMARY:Awareness Through Movement
DESCRIPTION:$20/class or a 6 class discount for $100 \nYou must register by email for classes ahead of time
URL:https://upliftstudio.ca/event/awareness-through-movement-19/
LOCATION:B.C.
CATEGORIES:Awareness Through Movement
END:VEVENT
BEGIN:VEVENT
DTSTART;TZID=UTC:20180404T153000
DTEND;TZID=UTC:20180404T164500
DTSTAMP:20260422T145413
CREATED:20180323T162114Z
LAST-MODIFIED:20180323T162957Z
UID:625-1522855800-1522860300@upliftstudio.ca
SUMMARY:Awareness Through Movement
DESCRIPTION:$20/class or a 6 class discount for $100 \nYou must register by email for classes ahead of time
URL:https://upliftstudio.ca/event/awareness-through-movement-5/
LOCATION:B.C.
CATEGORIES:Awareness Through Movement
END:VEVENT
END:VCALENDAR